BEGIN:VCALENDAR
VERSION:2.0
PRODID:-//Beast Fitness - ECPv5.16.4//NONSGML v1.0//EN
CALSCALE:GREGORIAN
METHOD:PUBLISH
X-WR-CALNAME:Beast Fitness
X-ORIGINAL-URL:https://beast-fit.com
X-WR-CALDESC:Events for Beast Fitness
REFRESH-INTERVAL;VALUE=DURATION:PT1H
X-Robots-Tag:noindex
X-PUBLISHED-TTL:PT1H
BEGIN:VTIMEZONE
TZID:America/New_York
BEGIN:DAYLIGHT
TZOFFSETFROM:-0500
TZOFFSETTO:-0400
TZNAME:EDT
DTSTART:20260308T070000
END:DAYLIGHT
BEGIN:STANDARD
TZOFFSETFROM:-0400
TZOFFSETTO:-0500
TZNAME:EST
DTSTART:20261101T060000
END:STANDARD
END:VTIMEZONE
BEGIN:VEVENT
DTSTART;TZID=America/New_York:20260602T053000
DTEND;TZID=America/New_York:20260602T063000
DTSTAMP:20260421T054640
CREATED:20200817T150718Z
LAST-MODIFIED:20200817T150718Z
UID:31465-1780378200-1780381800@beast-fit.com
SUMMARY:Cross Training: Chest\, Shoulders\, and Triceps
DESCRIPTION:
URL:https://beast-fit.com/event/tuesday/2026-06-02/
LOCATION:Seacrest Soccer Complex\, 2505 Seacrest Blvd\, Delray Beach\, FL\, 33444\, United States
GEO:26.4892962;-80.0678377
X-APPLE-STRUCTURED-LOCATION;VALUE=URI;X-ADDRESS=Seacrest Soccer Complex 2505 Seacrest Blvd Delray Beach FL 33444 United States;X-APPLE-RADIUS=500;X-TITLE=2505 Seacrest Blvd:geo:-80.0678377,26.4892962
END:VEVENT
BEGIN:VEVENT
DTSTART;TZID=America/New_York:20260602T063000
DTEND;TZID=America/New_York:20260602T073000
DTSTAMP:20260421T054640
CREATED:20200817T150718Z
LAST-MODIFIED:20200817T150718Z
UID:31466-1780381800-1780385400@beast-fit.com
SUMMARY:Cross Training: Chest\, Shoulders\, and Triceps
DESCRIPTION:
URL:https://beast-fit.com/event/tuesday/2026-06-02/
LOCATION:Seacrest Soccer Complex\, 2505 Seacrest Blvd\, Delray Beach\, FL\, 33444\, United States
GEO:26.4892962;-80.0678377
X-APPLE-STRUCTURED-LOCATION;VALUE=URI;X-ADDRESS=Seacrest Soccer Complex 2505 Seacrest Blvd Delray Beach FL 33444 United States;X-APPLE-RADIUS=500;X-TITLE=2505 Seacrest Blvd:geo:-80.0678377,26.4892962
END:VEVENT
BEGIN:VEVENT
DTSTART;TZID=America/New_York:20260602T080000
DTEND;TZID=America/New_York:20260602T090000
DTSTAMP:20260421T054640
CREATED:20200817T150718Z
LAST-MODIFIED:20200817T150718Z
UID:31467-1780387200-1780390800@beast-fit.com
SUMMARY:Cross Training: Chest\, Shoulders\, and Triceps
DESCRIPTION:
URL:https://beast-fit.com/event/tuesday/2026-06-02/
LOCATION:Seacrest Soccer Complex\, 2505 Seacrest Blvd\, Delray Beach\, FL\, 33444\, United States
GEO:26.4892962;-80.0678377
X-APPLE-STRUCTURED-LOCATION;VALUE=URI;X-ADDRESS=Seacrest Soccer Complex 2505 Seacrest Blvd Delray Beach FL 33444 United States;X-APPLE-RADIUS=500;X-TITLE=2505 Seacrest Blvd:geo:-80.0678377,26.4892962
END:VEVENT
BEGIN:VEVENT
DTSTART;TZID=America/New_York:20260602T173000
DTEND;TZID=America/New_York:20260602T183000
DTSTAMP:20260421T054640
CREATED:20200817T150718Z
LAST-MODIFIED:20200817T150718Z
UID:31468-1780421400-1780425000@beast-fit.com
SUMMARY:Cross Training: Chest\, Shoulders\, and Triceps
DESCRIPTION:
URL:https://beast-fit.com/event/tuesday/2026-06-02/
LOCATION:Seacrest Soccer Complex\, 2505 Seacrest Blvd\, Delray Beach\, FL\, 33444\, United States
GEO:26.4892962;-80.0678377
X-APPLE-STRUCTURED-LOCATION;VALUE=URI;X-ADDRESS=Seacrest Soccer Complex 2505 Seacrest Blvd Delray Beach FL 33444 United States;X-APPLE-RADIUS=500;X-TITLE=2505 Seacrest Blvd:geo:-80.0678377,26.4892962
END:VEVENT
BEGIN:VEVENT
DTSTART;TZID=America/New_York:20260609T053000
DTEND;TZID=America/New_York:20260609T063000
DTSTAMP:20260421T054640
CREATED:20200817T150718Z
LAST-MODIFIED:20200817T150718Z
UID:31489-1780983000-1780986600@beast-fit.com
SUMMARY:Cross Training: Chest\, Shoulders\, and Triceps
DESCRIPTION:
URL:https://beast-fit.com/event/tuesday/2026-06-09/
LOCATION:Seacrest Soccer Complex\, 2505 Seacrest Blvd\, Delray Beach\, FL\, 33444\, United States
GEO:26.4892962;-80.0678377
X-APPLE-STRUCTURED-LOCATION;VALUE=URI;X-ADDRESS=Seacrest Soccer Complex 2505 Seacrest Blvd Delray Beach FL 33444 United States;X-APPLE-RADIUS=500;X-TITLE=2505 Seacrest Blvd:geo:-80.0678377,26.4892962
END:VEVENT
BEGIN:VEVENT
DTSTART;TZID=America/New_York:20260609T063000
DTEND;TZID=America/New_York:20260609T073000
DTSTAMP:20260421T054640
CREATED:20200817T150718Z
LAST-MODIFIED:20200817T150718Z
UID:31490-1780986600-1780990200@beast-fit.com
SUMMARY:Cross Training: Chest\, Shoulders\, and Triceps
DESCRIPTION:
URL:https://beast-fit.com/event/tuesday/2026-06-09/
LOCATION:Seacrest Soccer Complex\, 2505 Seacrest Blvd\, Delray Beach\, FL\, 33444\, United States
GEO:26.4892962;-80.0678377
X-APPLE-STRUCTURED-LOCATION;VALUE=URI;X-ADDRESS=Seacrest Soccer Complex 2505 Seacrest Blvd Delray Beach FL 33444 United States;X-APPLE-RADIUS=500;X-TITLE=2505 Seacrest Blvd:geo:-80.0678377,26.4892962
END:VEVENT
BEGIN:VEVENT
DTSTART;TZID=America/New_York:20260609T080000
DTEND;TZID=America/New_York:20260609T090000
DTSTAMP:20260421T054640
CREATED:20200817T150718Z
LAST-MODIFIED:20200817T150718Z
UID:31491-1780992000-1780995600@beast-fit.com
SUMMARY:Cross Training: Chest\, Shoulders\, and Triceps
DESCRIPTION:
URL:https://beast-fit.com/event/tuesday/2026-06-09/
LOCATION:Seacrest Soccer Complex\, 2505 Seacrest Blvd\, Delray Beach\, FL\, 33444\, United States
GEO:26.4892962;-80.0678377
X-APPLE-STRUCTURED-LOCATION;VALUE=URI;X-ADDRESS=Seacrest Soccer Complex 2505 Seacrest Blvd Delray Beach FL 33444 United States;X-APPLE-RADIUS=500;X-TITLE=2505 Seacrest Blvd:geo:-80.0678377,26.4892962
END:VEVENT
BEGIN:VEVENT
DTSTART;TZID=America/New_York:20260609T173000
DTEND;TZID=America/New_York:20260609T183000
DTSTAMP:20260421T054640
CREATED:20200817T150718Z
LAST-MODIFIED:20200817T150718Z
UID:31492-1781026200-1781029800@beast-fit.com
SUMMARY:Cross Training: Chest\, Shoulders\, and Triceps
DESCRIPTION:
URL:https://beast-fit.com/event/tuesday/2026-06-09/
LOCATION:Seacrest Soccer Complex\, 2505 Seacrest Blvd\, Delray Beach\, FL\, 33444\, United States
GEO:26.4892962;-80.0678377
X-APPLE-STRUCTURED-LOCATION;VALUE=URI;X-ADDRESS=Seacrest Soccer Complex 2505 Seacrest Blvd Delray Beach FL 33444 United States;X-APPLE-RADIUS=500;X-TITLE=2505 Seacrest Blvd:geo:-80.0678377,26.4892962
END:VEVENT
BEGIN:VEVENT
DTSTART;TZID=America/New_York:20260616T053000
DTEND;TZID=America/New_York:20260616T063000
DTSTAMP:20260421T054640
CREATED:20200817T150718Z
LAST-MODIFIED:20200817T150718Z
UID:31513-1781587800-1781591400@beast-fit.com
SUMMARY:Cross Training: Chest\, Shoulders\, and Triceps
DESCRIPTION:
URL:https://beast-fit.com/event/tuesday/2026-06-16/
LOCATION:Seacrest Soccer Complex\, 2505 Seacrest Blvd\, Delray Beach\, FL\, 33444\, United States
GEO:26.4892962;-80.0678377
X-APPLE-STRUCTURED-LOCATION;VALUE=URI;X-ADDRESS=Seacrest Soccer Complex 2505 Seacrest Blvd Delray Beach FL 33444 United States;X-APPLE-RADIUS=500;X-TITLE=2505 Seacrest Blvd:geo:-80.0678377,26.4892962
END:VEVENT
BEGIN:VEVENT
DTSTART;TZID=America/New_York:20260616T063000
DTEND;TZID=America/New_York:20260616T073000
DTSTAMP:20260421T054640
CREATED:20200817T150718Z
LAST-MODIFIED:20200817T150718Z
UID:31514-1781591400-1781595000@beast-fit.com
SUMMARY:Cross Training: Chest\, Shoulders\, and Triceps
DESCRIPTION:
URL:https://beast-fit.com/event/tuesday/2026-06-16/
LOCATION:Seacrest Soccer Complex\, 2505 Seacrest Blvd\, Delray Beach\, FL\, 33444\, United States
GEO:26.4892962;-80.0678377
X-APPLE-STRUCTURED-LOCATION;VALUE=URI;X-ADDRESS=Seacrest Soccer Complex 2505 Seacrest Blvd Delray Beach FL 33444 United States;X-APPLE-RADIUS=500;X-TITLE=2505 Seacrest Blvd:geo:-80.0678377,26.4892962
END:VEVENT
BEGIN:VEVENT
DTSTART;TZID=America/New_York:20260616T080000
DTEND;TZID=America/New_York:20260616T090000
DTSTAMP:20260421T054640
CREATED:20200817T150718Z
LAST-MODIFIED:20200817T150718Z
UID:31515-1781596800-1781600400@beast-fit.com
SUMMARY:Cross Training: Chest\, Shoulders\, and Triceps
DESCRIPTION:
URL:https://beast-fit.com/event/tuesday/2026-06-16/
LOCATION:Seacrest Soccer Complex\, 2505 Seacrest Blvd\, Delray Beach\, FL\, 33444\, United States
GEO:26.4892962;-80.0678377
X-APPLE-STRUCTURED-LOCATION;VALUE=URI;X-ADDRESS=Seacrest Soccer Complex 2505 Seacrest Blvd Delray Beach FL 33444 United States;X-APPLE-RADIUS=500;X-TITLE=2505 Seacrest Blvd:geo:-80.0678377,26.4892962
END:VEVENT
BEGIN:VEVENT
DTSTART;TZID=America/New_York:20260616T173000
DTEND;TZID=America/New_York:20260616T183000
DTSTAMP:20260421T054640
CREATED:20200817T150718Z
LAST-MODIFIED:20200817T150718Z
UID:31516-1781631000-1781634600@beast-fit.com
SUMMARY:Cross Training: Chest\, Shoulders\, and Triceps
DESCRIPTION:
URL:https://beast-fit.com/event/tuesday/2026-06-16/
LOCATION:Seacrest Soccer Complex\, 2505 Seacrest Blvd\, Delray Beach\, FL\, 33444\, United States
GEO:26.4892962;-80.0678377
X-APPLE-STRUCTURED-LOCATION;VALUE=URI;X-ADDRESS=Seacrest Soccer Complex 2505 Seacrest Blvd Delray Beach FL 33444 United States;X-APPLE-RADIUS=500;X-TITLE=2505 Seacrest Blvd:geo:-80.0678377,26.4892962
END:VEVENT
BEGIN:VEVENT
DTSTART;TZID=America/New_York:20260623T053000
DTEND;TZID=America/New_York:20260623T063000
DTSTAMP:20260421T054640
CREATED:20200817T150718Z
LAST-MODIFIED:20200817T150718Z
UID:31541-1782192600-1782196200@beast-fit.com
SUMMARY:Cross Training: Chest\, Shoulders\, and Triceps
DESCRIPTION:
URL:https://beast-fit.com/event/tuesday/2026-06-23/
LOCATION:Seacrest Soccer Complex\, 2505 Seacrest Blvd\, Delray Beach\, FL\, 33444\, United States
GEO:26.4892962;-80.0678377
X-APPLE-STRUCTURED-LOCATION;VALUE=URI;X-ADDRESS=Seacrest Soccer Complex 2505 Seacrest Blvd Delray Beach FL 33444 United States;X-APPLE-RADIUS=500;X-TITLE=2505 Seacrest Blvd:geo:-80.0678377,26.4892962
END:VEVENT
BEGIN:VEVENT
DTSTART;TZID=America/New_York:20260623T063000
DTEND;TZID=America/New_York:20260623T073000
DTSTAMP:20260421T054640
CREATED:20200817T150718Z
LAST-MODIFIED:20200817T150718Z
UID:31542-1782196200-1782199800@beast-fit.com
SUMMARY:Cross Training: Chest\, Shoulders\, and Triceps
DESCRIPTION:
URL:https://beast-fit.com/event/tuesday/2026-06-23/
LOCATION:Seacrest Soccer Complex\, 2505 Seacrest Blvd\, Delray Beach\, FL\, 33444\, United States
GEO:26.4892962;-80.0678377
X-APPLE-STRUCTURED-LOCATION;VALUE=URI;X-ADDRESS=Seacrest Soccer Complex 2505 Seacrest Blvd Delray Beach FL 33444 United States;X-APPLE-RADIUS=500;X-TITLE=2505 Seacrest Blvd:geo:-80.0678377,26.4892962
END:VEVENT
BEGIN:VEVENT
DTSTART;TZID=America/New_York:20260623T080000
DTEND;TZID=America/New_York:20260623T090000
DTSTAMP:20260421T054640
CREATED:20200817T150718Z
LAST-MODIFIED:20200817T150718Z
UID:31543-1782201600-1782205200@beast-fit.com
SUMMARY:Cross Training: Chest\, Shoulders\, and Triceps
DESCRIPTION:
URL:https://beast-fit.com/event/tuesday/2026-06-23/
LOCATION:Seacrest Soccer Complex\, 2505 Seacrest Blvd\, Delray Beach\, FL\, 33444\, United States
GEO:26.4892962;-80.0678377
X-APPLE-STRUCTURED-LOCATION;VALUE=URI;X-ADDRESS=Seacrest Soccer Complex 2505 Seacrest Blvd Delray Beach FL 33444 United States;X-APPLE-RADIUS=500;X-TITLE=2505 Seacrest Blvd:geo:-80.0678377,26.4892962
END:VEVENT
BEGIN:VEVENT
DTSTART;TZID=America/New_York:20260623T173000
DTEND;TZID=America/New_York:20260623T183000
DTSTAMP:20260421T054640
CREATED:20200817T150718Z
LAST-MODIFIED:20200817T150718Z
UID:31544-1782235800-1782239400@beast-fit.com
SUMMARY:Cross Training: Chest\, Shoulders\, and Triceps
DESCRIPTION:
URL:https://beast-fit.com/event/tuesday/2026-06-23/
LOCATION:Seacrest Soccer Complex\, 2505 Seacrest Blvd\, Delray Beach\, FL\, 33444\, United States
GEO:26.4892962;-80.0678377
X-APPLE-STRUCTURED-LOCATION;VALUE=URI;X-ADDRESS=Seacrest Soccer Complex 2505 Seacrest Blvd Delray Beach FL 33444 United States;X-APPLE-RADIUS=500;X-TITLE=2505 Seacrest Blvd:geo:-80.0678377,26.4892962
END:VEVENT
BEGIN:VEVENT
DTSTART;TZID=America/New_York:20260630T053000
DTEND;TZID=America/New_York:20260630T063000
DTSTAMP:20260421T054640
CREATED:20200817T150718Z
LAST-MODIFIED:20200817T150718Z
UID:31566-1782797400-1782801000@beast-fit.com
SUMMARY:Cross Training: Chest\, Shoulders\, and Triceps
DESCRIPTION:
URL:https://beast-fit.com/event/tuesday/2026-06-30/
LOCATION:Seacrest Soccer Complex\, 2505 Seacrest Blvd\, Delray Beach\, FL\, 33444\, United States
GEO:26.4892962;-80.0678377
X-APPLE-STRUCTURED-LOCATION;VALUE=URI;X-ADDRESS=Seacrest Soccer Complex 2505 Seacrest Blvd Delray Beach FL 33444 United States;X-APPLE-RADIUS=500;X-TITLE=2505 Seacrest Blvd:geo:-80.0678377,26.4892962
END:VEVENT
BEGIN:VEVENT
DTSTART;TZID=America/New_York:20260630T063000
DTEND;TZID=America/New_York:20260630T073000
DTSTAMP:20260421T054640
CREATED:20200817T150718Z
LAST-MODIFIED:20200817T150718Z
UID:31567-1782801000-1782804600@beast-fit.com
SUMMARY:Cross Training: Chest\, Shoulders\, and Triceps
DESCRIPTION:
URL:https://beast-fit.com/event/tuesday/2026-06-30/
LOCATION:Seacrest Soccer Complex\, 2505 Seacrest Blvd\, Delray Beach\, FL\, 33444\, United States
GEO:26.4892962;-80.0678377
X-APPLE-STRUCTURED-LOCATION;VALUE=URI;X-ADDRESS=Seacrest Soccer Complex 2505 Seacrest Blvd Delray Beach FL 33444 United States;X-APPLE-RADIUS=500;X-TITLE=2505 Seacrest Blvd:geo:-80.0678377,26.4892962
END:VEVENT
BEGIN:VEVENT
DTSTART;TZID=America/New_York:20260630T080000
DTEND;TZID=America/New_York:20260630T090000
DTSTAMP:20260421T054640
CREATED:20200817T150718Z
LAST-MODIFIED:20200817T150718Z
UID:31568-1782806400-1782810000@beast-fit.com
SUMMARY:Cross Training: Chest\, Shoulders\, and Triceps
DESCRIPTION:
URL:https://beast-fit.com/event/tuesday/2026-06-30/
LOCATION:Seacrest Soccer Complex\, 2505 Seacrest Blvd\, Delray Beach\, FL\, 33444\, United States
GEO:26.4892962;-80.0678377
X-APPLE-STRUCTURED-LOCATION;VALUE=URI;X-ADDRESS=Seacrest Soccer Complex 2505 Seacrest Blvd Delray Beach FL 33444 United States;X-APPLE-RADIUS=500;X-TITLE=2505 Seacrest Blvd:geo:-80.0678377,26.4892962
END:VEVENT
BEGIN:VEVENT
DTSTART;TZID=America/New_York:20260630T173000
DTEND;TZID=America/New_York:20260630T183000
DTSTAMP:20260421T054640
CREATED:20200817T150718Z
LAST-MODIFIED:20200817T150718Z
UID:31569-1782840600-1782844200@beast-fit.com
SUMMARY:Cross Training: Chest\, Shoulders\, and Triceps
DESCRIPTION:
URL:https://beast-fit.com/event/tuesday/2026-06-30/
LOCATION:Seacrest Soccer Complex\, 2505 Seacrest Blvd\, Delray Beach\, FL\, 33444\, United States
GEO:26.4892962;-80.0678377
X-APPLE-STRUCTURED-LOCATION;VALUE=URI;X-ADDRESS=Seacrest Soccer Complex 2505 Seacrest Blvd Delray Beach FL 33444 United States;X-APPLE-RADIUS=500;X-TITLE=2505 Seacrest Blvd:geo:-80.0678377,26.4892962
END:VEVENT
BEGIN:VEVENT
DTSTART;TZID=America/New_York:20260707T053000
DTEND;TZID=America/New_York:20260707T063000
DTSTAMP:20260421T054640
CREATED:20200817T150718Z
LAST-MODIFIED:20200817T150718Z
UID:31591-1783402200-1783405800@beast-fit.com
SUMMARY:Cross Training: Chest\, Shoulders\, and Triceps
DESCRIPTION:
URL:https://beast-fit.com/event/tuesday/2026-07-07/
LOCATION:Seacrest Soccer Complex\, 2505 Seacrest Blvd\, Delray Beach\, FL\, 33444\, United States
GEO:26.4892962;-80.0678377
X-APPLE-STRUCTURED-LOCATION;VALUE=URI;X-ADDRESS=Seacrest Soccer Complex 2505 Seacrest Blvd Delray Beach FL 33444 United States;X-APPLE-RADIUS=500;X-TITLE=2505 Seacrest Blvd:geo:-80.0678377,26.4892962
END:VEVENT
BEGIN:VEVENT
DTSTART;TZID=America/New_York:20260707T063000
DTEND;TZID=America/New_York:20260707T073000
DTSTAMP:20260421T054640
CREATED:20200817T150718Z
LAST-MODIFIED:20200817T150718Z
UID:31592-1783405800-1783409400@beast-fit.com
SUMMARY:Cross Training: Chest\, Shoulders\, and Triceps
DESCRIPTION:
URL:https://beast-fit.com/event/tuesday/2026-07-07/
LOCATION:Seacrest Soccer Complex\, 2505 Seacrest Blvd\, Delray Beach\, FL\, 33444\, United States
GEO:26.4892962;-80.0678377
X-APPLE-STRUCTURED-LOCATION;VALUE=URI;X-ADDRESS=Seacrest Soccer Complex 2505 Seacrest Blvd Delray Beach FL 33444 United States;X-APPLE-RADIUS=500;X-TITLE=2505 Seacrest Blvd:geo:-80.0678377,26.4892962
END:VEVENT
BEGIN:VEVENT
DTSTART;TZID=America/New_York:20260707T080000
DTEND;TZID=America/New_York:20260707T090000
DTSTAMP:20260421T054640
CREATED:20200817T150718Z
LAST-MODIFIED:20200817T150718Z
UID:31593-1783411200-1783414800@beast-fit.com
SUMMARY:Cross Training: Chest\, Shoulders\, and Triceps
DESCRIPTION:
URL:https://beast-fit.com/event/tuesday/2026-07-07/
LOCATION:Seacrest Soccer Complex\, 2505 Seacrest Blvd\, Delray Beach\, FL\, 33444\, United States
GEO:26.4892962;-80.0678377
X-APPLE-STRUCTURED-LOCATION;VALUE=URI;X-ADDRESS=Seacrest Soccer Complex 2505 Seacrest Blvd Delray Beach FL 33444 United States;X-APPLE-RADIUS=500;X-TITLE=2505 Seacrest Blvd:geo:-80.0678377,26.4892962
END:VEVENT
BEGIN:VEVENT
DTSTART;TZID=America/New_York:20260707T173000
DTEND;TZID=America/New_York:20260707T183000
DTSTAMP:20260421T054640
CREATED:20200817T150718Z
LAST-MODIFIED:20200817T150718Z
UID:31594-1783445400-1783449000@beast-fit.com
SUMMARY:Cross Training: Chest\, Shoulders\, and Triceps
DESCRIPTION:
URL:https://beast-fit.com/event/tuesday/2026-07-07/
LOCATION:Seacrest Soccer Complex\, 2505 Seacrest Blvd\, Delray Beach\, FL\, 33444\, United States
GEO:26.4892962;-80.0678377
X-APPLE-STRUCTURED-LOCATION;VALUE=URI;X-ADDRESS=Seacrest Soccer Complex 2505 Seacrest Blvd Delray Beach FL 33444 United States;X-APPLE-RADIUS=500;X-TITLE=2505 Seacrest Blvd:geo:-80.0678377,26.4892962
END:VEVENT
BEGIN:VEVENT
DTSTART;TZID=America/New_York:20260714T053000
DTEND;TZID=America/New_York:20260714T063000
DTSTAMP:20260421T054640
CREATED:20200817T150718Z
LAST-MODIFIED:20200817T150718Z
UID:31616-1784007000-1784010600@beast-fit.com
SUMMARY:Cross Training: Chest\, Shoulders\, and Triceps
DESCRIPTION:
URL:https://beast-fit.com/event/tuesday/2026-07-14/
LOCATION:Seacrest Soccer Complex\, 2505 Seacrest Blvd\, Delray Beach\, FL\, 33444\, United States
GEO:26.4892962;-80.0678377
X-APPLE-STRUCTURED-LOCATION;VALUE=URI;X-ADDRESS=Seacrest Soccer Complex 2505 Seacrest Blvd Delray Beach FL 33444 United States;X-APPLE-RADIUS=500;X-TITLE=2505 Seacrest Blvd:geo:-80.0678377,26.4892962
END:VEVENT
BEGIN:VEVENT
DTSTART;TZID=America/New_York:20260714T063000
DTEND;TZID=America/New_York:20260714T073000
DTSTAMP:20260421T054640
CREATED:20200817T150718Z
LAST-MODIFIED:20200817T150718Z
UID:31617-1784010600-1784014200@beast-fit.com
SUMMARY:Cross Training: Chest\, Shoulders\, and Triceps
DESCRIPTION:
URL:https://beast-fit.com/event/tuesday/2026-07-14/
LOCATION:Seacrest Soccer Complex\, 2505 Seacrest Blvd\, Delray Beach\, FL\, 33444\, United States
GEO:26.4892962;-80.0678377
X-APPLE-STRUCTURED-LOCATION;VALUE=URI;X-ADDRESS=Seacrest Soccer Complex 2505 Seacrest Blvd Delray Beach FL 33444 United States;X-APPLE-RADIUS=500;X-TITLE=2505 Seacrest Blvd:geo:-80.0678377,26.4892962
END:VEVENT
BEGIN:VEVENT
DTSTART;TZID=America/New_York:20260714T080000
DTEND;TZID=America/New_York:20260714T090000
DTSTAMP:20260421T054640
CREATED:20200817T150718Z
LAST-MODIFIED:20200817T150718Z
UID:31618-1784016000-1784019600@beast-fit.com
SUMMARY:Cross Training: Chest\, Shoulders\, and Triceps
DESCRIPTION:
URL:https://beast-fit.com/event/tuesday/2026-07-14/
LOCATION:Seacrest Soccer Complex\, 2505 Seacrest Blvd\, Delray Beach\, FL\, 33444\, United States
GEO:26.4892962;-80.0678377
X-APPLE-STRUCTURED-LOCATION;VALUE=URI;X-ADDRESS=Seacrest Soccer Complex 2505 Seacrest Blvd Delray Beach FL 33444 United States;X-APPLE-RADIUS=500;X-TITLE=2505 Seacrest Blvd:geo:-80.0678377,26.4892962
END:VEVENT
BEGIN:VEVENT
DTSTART;TZID=America/New_York:20260714T173000
DTEND;TZID=America/New_York:20260714T183000
DTSTAMP:20260421T054640
CREATED:20200817T150718Z
LAST-MODIFIED:20200817T150718Z
UID:31619-1784050200-1784053800@beast-fit.com
SUMMARY:Cross Training: Chest\, Shoulders\, and Triceps
DESCRIPTION:
URL:https://beast-fit.com/event/tuesday/2026-07-14/
LOCATION:Seacrest Soccer Complex\, 2505 Seacrest Blvd\, Delray Beach\, FL\, 33444\, United States
GEO:26.4892962;-80.0678377
X-APPLE-STRUCTURED-LOCATION;VALUE=URI;X-ADDRESS=Seacrest Soccer Complex 2505 Seacrest Blvd Delray Beach FL 33444 United States;X-APPLE-RADIUS=500;X-TITLE=2505 Seacrest Blvd:geo:-80.0678377,26.4892962
END:VEVENT
BEGIN:VEVENT
DTSTART;TZID=America/New_York:20260721T053000
DTEND;TZID=America/New_York:20260721T063000
DTSTAMP:20260421T054640
CREATED:20200817T150718Z
LAST-MODIFIED:20200817T150718Z
UID:31640-1784611800-1784615400@beast-fit.com
SUMMARY:Cross Training: Chest\, Shoulders\, and Triceps
DESCRIPTION:
URL:https://beast-fit.com/event/tuesday/2026-07-21/
LOCATION:Seacrest Soccer Complex\, 2505 Seacrest Blvd\, Delray Beach\, FL\, 33444\, United States
GEO:26.4892962;-80.0678377
X-APPLE-STRUCTURED-LOCATION;VALUE=URI;X-ADDRESS=Seacrest Soccer Complex 2505 Seacrest Blvd Delray Beach FL 33444 United States;X-APPLE-RADIUS=500;X-TITLE=2505 Seacrest Blvd:geo:-80.0678377,26.4892962
END:VEVENT
BEGIN:VEVENT
DTSTART;TZID=America/New_York:20260721T063000
DTEND;TZID=America/New_York:20260721T073000
DTSTAMP:20260421T054640
CREATED:20200817T150718Z
LAST-MODIFIED:20200817T150718Z
UID:31641-1784615400-1784619000@beast-fit.com
SUMMARY:Cross Training: Chest\, Shoulders\, and Triceps
DESCRIPTION:
URL:https://beast-fit.com/event/tuesday/2026-07-21/
LOCATION:Seacrest Soccer Complex\, 2505 Seacrest Blvd\, Delray Beach\, FL\, 33444\, United States
GEO:26.4892962;-80.0678377
X-APPLE-STRUCTURED-LOCATION;VALUE=URI;X-ADDRESS=Seacrest Soccer Complex 2505 Seacrest Blvd Delray Beach FL 33444 United States;X-APPLE-RADIUS=500;X-TITLE=2505 Seacrest Blvd:geo:-80.0678377,26.4892962
END:VEVENT
END:VCALENDAR