BEGIN:VCALENDAR
VERSION:2.0
PRODID:-//Beast Fitness - ECPv5.16.4//NONSGML v1.0//EN
CALSCALE:GREGORIAN
METHOD:PUBLISH
X-WR-CALNAME:Beast Fitness
X-ORIGINAL-URL:https://beast-fit.com
X-WR-CALDESC:Events for Beast Fitness
REFRESH-INTERVAL;VALUE=DURATION:PT1H
X-Robots-Tag:noindex
X-PUBLISHED-TTL:PT1H
BEGIN:VTIMEZONE
TZID:America/New_York
BEGIN:DAYLIGHT
TZOFFSETFROM:-0500
TZOFFSETTO:-0400
TZNAME:EDT
DTSTART:20250309T070000
END:DAYLIGHT
BEGIN:STANDARD
TZOFFSETFROM:-0400
TZOFFSETTO:-0500
TZNAME:EST
DTSTART:20251102T060000
END:STANDARD
END:VTIMEZONE
BEGIN:VEVENT
DTSTART;TZID=America/New_York:20250410T053000
DTEND;TZID=America/New_York:20250410T063000
DTSTAMP:20260421T102103
CREATED:20200817T153524Z
LAST-MODIFIED:20200817T153524Z
UID:30312-1744263000-1744266600@beast-fit.com
SUMMARY:Cross Training: Back and Biceps
DESCRIPTION:
URL:https://beast-fit.com/event/thursday/2025-04-10/
LOCATION:Seacrest Soccer Complex\, 2505 Seacrest Blvd\, Delray Beach\, FL\, 33444\, United States
GEO:26.4892962;-80.0678377
X-APPLE-STRUCTURED-LOCATION;VALUE=URI;X-ADDRESS=Seacrest Soccer Complex 2505 Seacrest Blvd Delray Beach FL 33444 United States;X-APPLE-RADIUS=500;X-TITLE=2505 Seacrest Blvd:geo:-80.0678377,26.4892962
END:VEVENT
BEGIN:VEVENT
DTSTART;TZID=America/New_York:20250410T063000
DTEND;TZID=America/New_York:20250410T073000
DTSTAMP:20260421T102103
CREATED:20200817T153524Z
LAST-MODIFIED:20200817T153524Z
UID:30363-1744266600-1744270200@beast-fit.com
SUMMARY:Cross Training: Back and Biceps
DESCRIPTION:
URL:https://beast-fit.com/event/thursday/2025-04-10/
LOCATION:Seacrest Soccer Complex\, 2505 Seacrest Blvd\, Delray Beach\, FL\, 33444\, United States
GEO:26.4892962;-80.0678377
X-APPLE-STRUCTURED-LOCATION;VALUE=URI;X-ADDRESS=Seacrest Soccer Complex 2505 Seacrest Blvd Delray Beach FL 33444 United States;X-APPLE-RADIUS=500;X-TITLE=2505 Seacrest Blvd:geo:-80.0678377,26.4892962
END:VEVENT
BEGIN:VEVENT
DTSTART;TZID=America/New_York:20250410T080000
DTEND;TZID=America/New_York:20250410T090000
DTSTAMP:20260421T102103
CREATED:20200817T153524Z
LAST-MODIFIED:20200817T153524Z
UID:30414-1744272000-1744275600@beast-fit.com
SUMMARY:Cross Training: Back and Biceps
DESCRIPTION:
URL:https://beast-fit.com/event/thursday/2025-04-10/
LOCATION:Seacrest Soccer Complex\, 2505 Seacrest Blvd\, Delray Beach\, FL\, 33444\, United States
GEO:26.4892962;-80.0678377
X-APPLE-STRUCTURED-LOCATION;VALUE=URI;X-ADDRESS=Seacrest Soccer Complex 2505 Seacrest Blvd Delray Beach FL 33444 United States;X-APPLE-RADIUS=500;X-TITLE=2505 Seacrest Blvd:geo:-80.0678377,26.4892962
END:VEVENT
BEGIN:VEVENT
DTSTART;TZID=America/New_York:20250410T173000
DTEND;TZID=America/New_York:20250410T183000
DTSTAMP:20260421T102103
CREATED:20200817T153524Z
LAST-MODIFIED:20200817T153524Z
UID:30465-1744306200-1744309800@beast-fit.com
SUMMARY:Cross Training: Back and Biceps
DESCRIPTION:
URL:https://beast-fit.com/event/thursday/2025-04-10/
LOCATION:Seacrest Soccer Complex\, 2505 Seacrest Blvd\, Delray Beach\, FL\, 33444\, United States
GEO:26.4892962;-80.0678377
X-APPLE-STRUCTURED-LOCATION;VALUE=URI;X-ADDRESS=Seacrest Soccer Complex 2505 Seacrest Blvd Delray Beach FL 33444 United States;X-APPLE-RADIUS=500;X-TITLE=2505 Seacrest Blvd:geo:-80.0678377,26.4892962
END:VEVENT
END:VCALENDAR