BEGIN:VCALENDAR
VERSION:2.0
PRODID:-//Beast Fitness - ECPv5.16.4//NONSGML v1.0//EN
CALSCALE:GREGORIAN
METHOD:PUBLISH
X-ORIGINAL-URL:https://beast-fit.com
X-WR-CALDESC:Events for Beast Fitness
REFRESH-INTERVAL;VALUE=DURATION:PT1H
X-Robots-Tag:noindex
X-PUBLISHED-TTL:PT1H
BEGIN:VTIMEZONE
TZID:America/New_York
BEGIN:DAYLIGHT
TZOFFSETFROM:-0500
TZOFFSETTO:-0400
TZNAME:EDT
DTSTART:20260308T070000
END:DAYLIGHT
BEGIN:STANDARD
TZOFFSETFROM:-0400
TZOFFSETTO:-0500
TZNAME:EST
DTSTART:20261101T060000
END:STANDARD
END:VTIMEZONE
BEGIN:VEVENT
DTSTART;TZID=America/New_York:20261201T063000
DTEND;TZID=America/New_York:20261201T073000
DTSTAMP:20260425T121912
CREATED:20200817T150718Z
LAST-MODIFIED:20200817T150718Z
UID:32093-1796106600-1796110200@beast-fit.com
SUMMARY:Cross Training: Chest\, Shoulders\, and Triceps
DESCRIPTION:
URL:https://beast-fit.com/event/tuesday/2026-12-01/
LOCATION:Seacrest Soccer Complex\, 2505 Seacrest Blvd\, Delray Beach\, FL\, 33444\, United States
GEO:26.4892962;-80.0678377
X-APPLE-STRUCTURED-LOCATION;VALUE=URI;X-ADDRESS=Seacrest Soccer Complex 2505 Seacrest Blvd Delray Beach FL 33444 United States;X-APPLE-RADIUS=500;X-TITLE=2505 Seacrest Blvd:geo:-80.0678377,26.4892962
END:VEVENT
BEGIN:VEVENT
DTSTART;TZID=America/New_York:20261201T080000
DTEND;TZID=America/New_York:20261201T090000
DTSTAMP:20260425T121912
CREATED:20200817T150718Z
LAST-MODIFIED:20200817T150718Z
UID:32094-1796112000-1796115600@beast-fit.com
SUMMARY:Cross Training: Chest\, Shoulders\, and Triceps
DESCRIPTION:
URL:https://beast-fit.com/event/tuesday/2026-12-01/
LOCATION:Seacrest Soccer Complex\, 2505 Seacrest Blvd\, Delray Beach\, FL\, 33444\, United States
GEO:26.4892962;-80.0678377
X-APPLE-STRUCTURED-LOCATION;VALUE=URI;X-ADDRESS=Seacrest Soccer Complex 2505 Seacrest Blvd Delray Beach FL 33444 United States;X-APPLE-RADIUS=500;X-TITLE=2505 Seacrest Blvd:geo:-80.0678377,26.4892962
END:VEVENT
BEGIN:VEVENT
DTSTART;TZID=America/New_York:20261201T173000
DTEND;TZID=America/New_York:20261201T183000
DTSTAMP:20260425T121912
CREATED:20200817T150718Z
LAST-MODIFIED:20200817T150718Z
UID:32095-1796146200-1796149800@beast-fit.com
SUMMARY:Cross Training: Chest\, Shoulders\, and Triceps
DESCRIPTION:
URL:https://beast-fit.com/event/tuesday/2026-12-01/
LOCATION:Seacrest Soccer Complex\, 2505 Seacrest Blvd\, Delray Beach\, FL\, 33444\, United States
GEO:26.4892962;-80.0678377
X-APPLE-STRUCTURED-LOCATION;VALUE=URI;X-ADDRESS=Seacrest Soccer Complex 2505 Seacrest Blvd Delray Beach FL 33444 United States;X-APPLE-RADIUS=500;X-TITLE=2505 Seacrest Blvd:geo:-80.0678377,26.4892962
END:VEVENT
BEGIN:VEVENT
DTSTART;TZID=America/New_York:20261202T053000
DTEND;TZID=America/New_York:20261202T063000
DTSTAMP:20260425T121912
CREATED:20200817T152431Z
LAST-MODIFIED:20200817T152431Z
UID:32097-1796189400-1796193000@beast-fit.com
SUMMARY:Cross Training: Legs
DESCRIPTION:
URL:https://beast-fit.com/event/wednesday/2026-12-02/
LOCATION:Seacrest Soccer Complex\, 2505 Seacrest Blvd\, Delray Beach\, FL\, 33444\, United States
GEO:26.4892962;-80.0678377
X-APPLE-STRUCTURED-LOCATION;VALUE=URI;X-ADDRESS=Seacrest Soccer Complex 2505 Seacrest Blvd Delray Beach FL 33444 United States;X-APPLE-RADIUS=500;X-TITLE=2505 Seacrest Blvd:geo:-80.0678377,26.4892962
END:VEVENT
BEGIN:VEVENT
DTSTART;TZID=America/New_York:20261202T063000
DTEND;TZID=America/New_York:20261202T070000
DTSTAMP:20260425T121912
CREATED:20200817T152431Z
LAST-MODIFIED:20200817T152431Z
UID:32098-1796193000-1796194800@beast-fit.com
SUMMARY:Cross Training: Legs
DESCRIPTION:
URL:https://beast-fit.com/event/wednesday/2026-12-02/
LOCATION:Seacrest Soccer Complex\, 2505 Seacrest Blvd\, Delray Beach\, FL\, 33444\, United States
GEO:26.4892962;-80.0678377
X-APPLE-STRUCTURED-LOCATION;VALUE=URI;X-ADDRESS=Seacrest Soccer Complex 2505 Seacrest Blvd Delray Beach FL 33444 United States;X-APPLE-RADIUS=500;X-TITLE=2505 Seacrest Blvd:geo:-80.0678377,26.4892962
END:VEVENT
BEGIN:VEVENT
DTSTART;TZID=America/New_York:20261202T080000
DTEND;TZID=America/New_York:20261202T090000
DTSTAMP:20260425T121912
CREATED:20200817T152431Z
LAST-MODIFIED:20200817T152431Z
UID:32099-1796198400-1796202000@beast-fit.com
SUMMARY:Cross Training: Legs
DESCRIPTION:
URL:https://beast-fit.com/event/wednesday/2026-12-02/
LOCATION:Seacrest Soccer Complex\, 2505 Seacrest Blvd\, Delray Beach\, FL\, 33444\, United States
GEO:26.4892962;-80.0678377
X-APPLE-STRUCTURED-LOCATION;VALUE=URI;X-ADDRESS=Seacrest Soccer Complex 2505 Seacrest Blvd Delray Beach FL 33444 United States;X-APPLE-RADIUS=500;X-TITLE=2505 Seacrest Blvd:geo:-80.0678377,26.4892962
END:VEVENT
BEGIN:VEVENT
DTSTART;TZID=America/New_York:20261202T173000
DTEND;TZID=America/New_York:20261202T183000
DTSTAMP:20260425T121912
CREATED:20200817T152431Z
LAST-MODIFIED:20200817T152431Z
UID:32100-1796232600-1796236200@beast-fit.com
SUMMARY:Cross Training: Legs
DESCRIPTION:
URL:https://beast-fit.com/event/wednesday/2026-12-02/
LOCATION:Seacrest Soccer Complex\, 2505 Seacrest Blvd\, Delray Beach\, FL\, 33444\, United States
GEO:26.4892962;-80.0678377
X-APPLE-STRUCTURED-LOCATION;VALUE=URI;X-ADDRESS=Seacrest Soccer Complex 2505 Seacrest Blvd Delray Beach FL 33444 United States;X-APPLE-RADIUS=500;X-TITLE=2505 Seacrest Blvd:geo:-80.0678377,26.4892962
END:VEVENT
BEGIN:VEVENT
DTSTART;TZID=America/New_York:20261203T053000
DTEND;TZID=America/New_York:20261203T063000
DTSTAMP:20260425T121912
CREATED:20200817T153524Z
LAST-MODIFIED:20200817T153524Z
UID:32102-1796275800-1796279400@beast-fit.com
SUMMARY:Cross Training: Back and Biceps
DESCRIPTION:
URL:https://beast-fit.com/event/thursday/2026-12-03/
LOCATION:Seacrest Soccer Complex\, 2505 Seacrest Blvd\, Delray Beach\, FL\, 33444\, United States
GEO:26.4892962;-80.0678377
X-APPLE-STRUCTURED-LOCATION;VALUE=URI;X-ADDRESS=Seacrest Soccer Complex 2505 Seacrest Blvd Delray Beach FL 33444 United States;X-APPLE-RADIUS=500;X-TITLE=2505 Seacrest Blvd:geo:-80.0678377,26.4892962
END:VEVENT
BEGIN:VEVENT
DTSTART;TZID=America/New_York:20261203T063000
DTEND;TZID=America/New_York:20261203T073000
DTSTAMP:20260425T121912
CREATED:20200817T153524Z
LAST-MODIFIED:20200817T153524Z
UID:32103-1796279400-1796283000@beast-fit.com
SUMMARY:Cross Training: Back and Biceps
DESCRIPTION:
URL:https://beast-fit.com/event/thursday/2026-12-03/
LOCATION:Seacrest Soccer Complex\, 2505 Seacrest Blvd\, Delray Beach\, FL\, 33444\, United States
GEO:26.4892962;-80.0678377
X-APPLE-STRUCTURED-LOCATION;VALUE=URI;X-ADDRESS=Seacrest Soccer Complex 2505 Seacrest Blvd Delray Beach FL 33444 United States;X-APPLE-RADIUS=500;X-TITLE=2505 Seacrest Blvd:geo:-80.0678377,26.4892962
END:VEVENT
BEGIN:VEVENT
DTSTART;TZID=America/New_York:20261203T080000
DTEND;TZID=America/New_York:20261203T090000
DTSTAMP:20260425T121912
CREATED:20200817T153524Z
LAST-MODIFIED:20200817T153524Z
UID:32104-1796284800-1796288400@beast-fit.com
SUMMARY:Cross Training: Back and Biceps
DESCRIPTION:
URL:https://beast-fit.com/event/thursday/2026-12-03/
LOCATION:Seacrest Soccer Complex\, 2505 Seacrest Blvd\, Delray Beach\, FL\, 33444\, United States
GEO:26.4892962;-80.0678377
X-APPLE-STRUCTURED-LOCATION;VALUE=URI;X-ADDRESS=Seacrest Soccer Complex 2505 Seacrest Blvd Delray Beach FL 33444 United States;X-APPLE-RADIUS=500;X-TITLE=2505 Seacrest Blvd:geo:-80.0678377,26.4892962
END:VEVENT
BEGIN:VEVENT
DTSTART;TZID=America/New_York:20261203T173000
DTEND;TZID=America/New_York:20261203T183000
DTSTAMP:20260425T121912
CREATED:20200817T153524Z
LAST-MODIFIED:20200817T153524Z
UID:32105-1796319000-1796322600@beast-fit.com
SUMMARY:Cross Training: Back and Biceps
DESCRIPTION:
URL:https://beast-fit.com/event/thursday/2026-12-03/
LOCATION:Seacrest Soccer Complex\, 2505 Seacrest Blvd\, Delray Beach\, FL\, 33444\, United States
GEO:26.4892962;-80.0678377
X-APPLE-STRUCTURED-LOCATION;VALUE=URI;X-ADDRESS=Seacrest Soccer Complex 2505 Seacrest Blvd Delray Beach FL 33444 United States;X-APPLE-RADIUS=500;X-TITLE=2505 Seacrest Blvd:geo:-80.0678377,26.4892962
END:VEVENT
BEGIN:VEVENT
DTSTART;TZID=America/New_York:20261204T053000
DTEND;TZID=America/New_York:20261204T063000
DTSTAMP:20260425T121912
CREATED:20200817T140708Z
LAST-MODIFIED:20200817T140708Z
UID:32106-1796362200-1796365800@beast-fit.com
SUMMARY:Cardio Conditioning
DESCRIPTION:The Zombie Apocalypse is real and it’s here. Push your muscles to failure and your cardio respiratory system to the max. The term “Comfort Zone” does not exist nor is it accepted here.
URL:https://beast-fit.com/event/friday/2026-12-04/
LOCATION:Seacrest Soccer Complex\, 2505 Seacrest Blvd\, Delray Beach\, FL\, 33444\, United States
GEO:26.4892962;-80.0678377
X-APPLE-STRUCTURED-LOCATION;VALUE=URI;X-ADDRESS=Seacrest Soccer Complex 2505 Seacrest Blvd Delray Beach FL 33444 United States;X-APPLE-RADIUS=500;X-TITLE=2505 Seacrest Blvd:geo:-80.0678377,26.4892962
END:VEVENT
BEGIN:VEVENT
DTSTART;TZID=America/New_York:20261204T063000
DTEND;TZID=America/New_York:20261204T073000
DTSTAMP:20260425T121912
CREATED:20200817T140708Z
LAST-MODIFIED:20200817T140708Z
UID:32107-1796365800-1796369400@beast-fit.com
SUMMARY:Cardio Conditioning
DESCRIPTION:The Zombie Apocalypse is real and it’s here. Push your muscles to failure and your cardio respiratory system to the max. The term “Comfort Zone” does not exist nor is it accepted here.
URL:https://beast-fit.com/event/friday/2026-12-04/
LOCATION:Seacrest Soccer Complex\, 2505 Seacrest Blvd\, Delray Beach\, FL\, 33444\, United States
GEO:26.4892962;-80.0678377
X-APPLE-STRUCTURED-LOCATION;VALUE=URI;X-ADDRESS=Seacrest Soccer Complex 2505 Seacrest Blvd Delray Beach FL 33444 United States;X-APPLE-RADIUS=500;X-TITLE=2505 Seacrest Blvd:geo:-80.0678377,26.4892962
END:VEVENT
BEGIN:VEVENT
DTSTART;TZID=America/New_York:20261204T080000
DTEND;TZID=America/New_York:20261204T090000
DTSTAMP:20260425T121912
CREATED:20200817T140708Z
LAST-MODIFIED:20200817T140708Z
UID:32108-1796371200-1796374800@beast-fit.com
SUMMARY:Cardio Conditioning
DESCRIPTION:The Zombie Apocalypse is real and it’s here. Push your muscles to failure and your cardio respiratory system to the max. The term “Comfort Zone” does not exist nor is it accepted here.
URL:https://beast-fit.com/event/friday/2026-12-04/
LOCATION:Seacrest Soccer Complex\, 2505 Seacrest Blvd\, Delray Beach\, FL\, 33444\, United States
GEO:26.4892962;-80.0678377
X-APPLE-STRUCTURED-LOCATION;VALUE=URI;X-ADDRESS=Seacrest Soccer Complex 2505 Seacrest Blvd Delray Beach FL 33444 United States;X-APPLE-RADIUS=500;X-TITLE=2505 Seacrest Blvd:geo:-80.0678377,26.4892962
END:VEVENT
BEGIN:VEVENT
DTSTART;TZID=America/New_York:20261205T060000
DTEND;TZID=America/New_York:20261205T073000
DTSTAMP:20260425T121912
CREATED:20200817T143327Z
LAST-MODIFIED:20200817T143327Z
UID:32547-1796450400-1796455800@beast-fit.com
SUMMARY:BEAST BEATDOWN: Full Body
DESCRIPTION:90 Minute Class
URL:https://beast-fit.com/event/saturday/2026-12-05/
LOCATION:Seacrest Soccer Complex\, 2505 Seacrest Blvd\, Delray Beach\, FL\, 33444\, United States
GEO:26.4892962;-80.0678377
X-APPLE-STRUCTURED-LOCATION;VALUE=URI;X-ADDRESS=Seacrest Soccer Complex 2505 Seacrest Blvd Delray Beach FL 33444 United States;X-APPLE-RADIUS=500;X-TITLE=2505 Seacrest Blvd:geo:-80.0678377,26.4892962
END:VEVENT
BEGIN:VEVENT
DTSTART;TZID=America/New_York:20261207T053000
DTEND;TZID=America/New_York:20261207T063000
DTSTAMP:20260425T121912
CREATED:20200817T144811Z
LAST-MODIFIED:20200817T144811Z
UID:32110-1796621400-1796625000@beast-fit.com
SUMMARY:Cardio Conditioning
DESCRIPTION:
URL:https://beast-fit.com/event/monday/2026-12-07/
LOCATION:Seacrest Soccer Complex\, 2505 Seacrest Blvd\, Delray Beach\, FL\, 33444\, United States
GEO:26.4892962;-80.0678377
X-APPLE-STRUCTURED-LOCATION;VALUE=URI;X-ADDRESS=Seacrest Soccer Complex 2505 Seacrest Blvd Delray Beach FL 33444 United States;X-APPLE-RADIUS=500;X-TITLE=2505 Seacrest Blvd:geo:-80.0678377,26.4892962
END:VEVENT
BEGIN:VEVENT
DTSTART;TZID=America/New_York:20261207T063000
DTEND;TZID=America/New_York:20261207T073000
DTSTAMP:20260425T121912
CREATED:20200817T144811Z
LAST-MODIFIED:20200817T144811Z
UID:32111-1796625000-1796628600@beast-fit.com
SUMMARY:Cardio Conditioning
DESCRIPTION:
URL:https://beast-fit.com/event/monday/2026-12-07/
LOCATION:Seacrest Soccer Complex\, 2505 Seacrest Blvd\, Delray Beach\, FL\, 33444\, United States
GEO:26.4892962;-80.0678377
X-APPLE-STRUCTURED-LOCATION;VALUE=URI;X-ADDRESS=Seacrest Soccer Complex 2505 Seacrest Blvd Delray Beach FL 33444 United States;X-APPLE-RADIUS=500;X-TITLE=2505 Seacrest Blvd:geo:-80.0678377,26.4892962
END:VEVENT
BEGIN:VEVENT
DTSTART;TZID=America/New_York:20261207T080000
DTEND;TZID=America/New_York:20261207T090000
DTSTAMP:20260425T121912
CREATED:20200817T144811Z
LAST-MODIFIED:20200817T144811Z
UID:32112-1796630400-1796634000@beast-fit.com
SUMMARY:Cardio Conditioning
DESCRIPTION:
URL:https://beast-fit.com/event/monday/2026-12-07/
LOCATION:Seacrest Soccer Complex\, 2505 Seacrest Blvd\, Delray Beach\, FL\, 33444\, United States
GEO:26.4892962;-80.0678377
X-APPLE-STRUCTURED-LOCATION;VALUE=URI;X-ADDRESS=Seacrest Soccer Complex 2505 Seacrest Blvd Delray Beach FL 33444 United States;X-APPLE-RADIUS=500;X-TITLE=2505 Seacrest Blvd:geo:-80.0678377,26.4892962
END:VEVENT
BEGIN:VEVENT
DTSTART;TZID=America/New_York:20261207T173000
DTEND;TZID=America/New_York:20261207T183000
DTSTAMP:20260425T121912
CREATED:20200817T144811Z
LAST-MODIFIED:20200817T144811Z
UID:32113-1796664600-1796668200@beast-fit.com
SUMMARY:Cardio Conditioning
DESCRIPTION:
URL:https://beast-fit.com/event/monday/2026-12-07/
LOCATION:Seacrest Soccer Complex\, 2505 Seacrest Blvd\, Delray Beach\, FL\, 33444\, United States
GEO:26.4892962;-80.0678377
X-APPLE-STRUCTURED-LOCATION;VALUE=URI;X-ADDRESS=Seacrest Soccer Complex 2505 Seacrest Blvd Delray Beach FL 33444 United States;X-APPLE-RADIUS=500;X-TITLE=2505 Seacrest Blvd:geo:-80.0678377,26.4892962
END:VEVENT
BEGIN:VEVENT
DTSTART;TZID=America/New_York:20261208T053000
DTEND;TZID=America/New_York:20261208T063000
DTSTAMP:20260425T121912
CREATED:20200817T150718Z
LAST-MODIFIED:20200817T150718Z
UID:32116-1796707800-1796711400@beast-fit.com
SUMMARY:Cross Training: Chest\, Shoulders\, and Triceps
DESCRIPTION:
URL:https://beast-fit.com/event/tuesday/2026-12-08/
LOCATION:Seacrest Soccer Complex\, 2505 Seacrest Blvd\, Delray Beach\, FL\, 33444\, United States
GEO:26.4892962;-80.0678377
X-APPLE-STRUCTURED-LOCATION;VALUE=URI;X-ADDRESS=Seacrest Soccer Complex 2505 Seacrest Blvd Delray Beach FL 33444 United States;X-APPLE-RADIUS=500;X-TITLE=2505 Seacrest Blvd:geo:-80.0678377,26.4892962
END:VEVENT
BEGIN:VEVENT
DTSTART;TZID=America/New_York:20261208T063000
DTEND;TZID=America/New_York:20261208T073000
DTSTAMP:20260425T121912
CREATED:20200817T150718Z
LAST-MODIFIED:20200817T150718Z
UID:32117-1796711400-1796715000@beast-fit.com
SUMMARY:Cross Training: Chest\, Shoulders\, and Triceps
DESCRIPTION:
URL:https://beast-fit.com/event/tuesday/2026-12-08/
LOCATION:Seacrest Soccer Complex\, 2505 Seacrest Blvd\, Delray Beach\, FL\, 33444\, United States
GEO:26.4892962;-80.0678377
X-APPLE-STRUCTURED-LOCATION;VALUE=URI;X-ADDRESS=Seacrest Soccer Complex 2505 Seacrest Blvd Delray Beach FL 33444 United States;X-APPLE-RADIUS=500;X-TITLE=2505 Seacrest Blvd:geo:-80.0678377,26.4892962
END:VEVENT
BEGIN:VEVENT
DTSTART;TZID=America/New_York:20261208T080000
DTEND;TZID=America/New_York:20261208T090000
DTSTAMP:20260425T121912
CREATED:20200817T150718Z
LAST-MODIFIED:20200817T150718Z
UID:32118-1796716800-1796720400@beast-fit.com
SUMMARY:Cross Training: Chest\, Shoulders\, and Triceps
DESCRIPTION:
URL:https://beast-fit.com/event/tuesday/2026-12-08/
LOCATION:Seacrest Soccer Complex\, 2505 Seacrest Blvd\, Delray Beach\, FL\, 33444\, United States
GEO:26.4892962;-80.0678377
X-APPLE-STRUCTURED-LOCATION;VALUE=URI;X-ADDRESS=Seacrest Soccer Complex 2505 Seacrest Blvd Delray Beach FL 33444 United States;X-APPLE-RADIUS=500;X-TITLE=2505 Seacrest Blvd:geo:-80.0678377,26.4892962
END:VEVENT
BEGIN:VEVENT
DTSTART;TZID=America/New_York:20261208T173000
DTEND;TZID=America/New_York:20261208T183000
DTSTAMP:20260425T121912
CREATED:20200817T150718Z
LAST-MODIFIED:20200817T150718Z
UID:32119-1796751000-1796754600@beast-fit.com
SUMMARY:Cross Training: Chest\, Shoulders\, and Triceps
DESCRIPTION:
URL:https://beast-fit.com/event/tuesday/2026-12-08/
LOCATION:Seacrest Soccer Complex\, 2505 Seacrest Blvd\, Delray Beach\, FL\, 33444\, United States
GEO:26.4892962;-80.0678377
X-APPLE-STRUCTURED-LOCATION;VALUE=URI;X-ADDRESS=Seacrest Soccer Complex 2505 Seacrest Blvd Delray Beach FL 33444 United States;X-APPLE-RADIUS=500;X-TITLE=2505 Seacrest Blvd:geo:-80.0678377,26.4892962
END:VEVENT
BEGIN:VEVENT
DTSTART;TZID=America/New_York:20261209T053000
DTEND;TZID=America/New_York:20261209T063000
DTSTAMP:20260425T121912
CREATED:20200817T152431Z
LAST-MODIFIED:20200817T152431Z
UID:32121-1796794200-1796797800@beast-fit.com
SUMMARY:Cross Training: Legs
DESCRIPTION:
URL:https://beast-fit.com/event/wednesday/2026-12-09/
LOCATION:Seacrest Soccer Complex\, 2505 Seacrest Blvd\, Delray Beach\, FL\, 33444\, United States
GEO:26.4892962;-80.0678377
X-APPLE-STRUCTURED-LOCATION;VALUE=URI;X-ADDRESS=Seacrest Soccer Complex 2505 Seacrest Blvd Delray Beach FL 33444 United States;X-APPLE-RADIUS=500;X-TITLE=2505 Seacrest Blvd:geo:-80.0678377,26.4892962
END:VEVENT
BEGIN:VEVENT
DTSTART;TZID=America/New_York:20261209T063000
DTEND;TZID=America/New_York:20261209T070000
DTSTAMP:20260425T121912
CREATED:20200817T152431Z
LAST-MODIFIED:20200817T152431Z
UID:32122-1796797800-1796799600@beast-fit.com
SUMMARY:Cross Training: Legs
DESCRIPTION:
URL:https://beast-fit.com/event/wednesday/2026-12-09/
LOCATION:Seacrest Soccer Complex\, 2505 Seacrest Blvd\, Delray Beach\, FL\, 33444\, United States
GEO:26.4892962;-80.0678377
X-APPLE-STRUCTURED-LOCATION;VALUE=URI;X-ADDRESS=Seacrest Soccer Complex 2505 Seacrest Blvd Delray Beach FL 33444 United States;X-APPLE-RADIUS=500;X-TITLE=2505 Seacrest Blvd:geo:-80.0678377,26.4892962
END:VEVENT
BEGIN:VEVENT
DTSTART;TZID=America/New_York:20261209T080000
DTEND;TZID=America/New_York:20261209T090000
DTSTAMP:20260425T121912
CREATED:20200817T152431Z
LAST-MODIFIED:20200817T152431Z
UID:32123-1796803200-1796806800@beast-fit.com
SUMMARY:Cross Training: Legs
DESCRIPTION:
URL:https://beast-fit.com/event/wednesday/2026-12-09/
LOCATION:Seacrest Soccer Complex\, 2505 Seacrest Blvd\, Delray Beach\, FL\, 33444\, United States
GEO:26.4892962;-80.0678377
X-APPLE-STRUCTURED-LOCATION;VALUE=URI;X-ADDRESS=Seacrest Soccer Complex 2505 Seacrest Blvd Delray Beach FL 33444 United States;X-APPLE-RADIUS=500;X-TITLE=2505 Seacrest Blvd:geo:-80.0678377,26.4892962
END:VEVENT
BEGIN:VEVENT
DTSTART;TZID=America/New_York:20261209T173000
DTEND;TZID=America/New_York:20261209T183000
DTSTAMP:20260425T121912
CREATED:20200817T152431Z
LAST-MODIFIED:20200817T152431Z
UID:32124-1796837400-1796841000@beast-fit.com
SUMMARY:Cross Training: Legs
DESCRIPTION:
URL:https://beast-fit.com/event/wednesday/2026-12-09/
LOCATION:Seacrest Soccer Complex\, 2505 Seacrest Blvd\, Delray Beach\, FL\, 33444\, United States
GEO:26.4892962;-80.0678377
X-APPLE-STRUCTURED-LOCATION;VALUE=URI;X-ADDRESS=Seacrest Soccer Complex 2505 Seacrest Blvd Delray Beach FL 33444 United States;X-APPLE-RADIUS=500;X-TITLE=2505 Seacrest Blvd:geo:-80.0678377,26.4892962
END:VEVENT
BEGIN:VEVENT
DTSTART;TZID=America/New_York:20261210T053000
DTEND;TZID=America/New_York:20261210T063000
DTSTAMP:20260425T121912
CREATED:20200817T153524Z
LAST-MODIFIED:20200817T153524Z
UID:32126-1796880600-1796884200@beast-fit.com
SUMMARY:Cross Training: Back and Biceps
DESCRIPTION:
URL:https://beast-fit.com/event/thursday/2026-12-10/
LOCATION:Seacrest Soccer Complex\, 2505 Seacrest Blvd\, Delray Beach\, FL\, 33444\, United States
GEO:26.4892962;-80.0678377
X-APPLE-STRUCTURED-LOCATION;VALUE=URI;X-ADDRESS=Seacrest Soccer Complex 2505 Seacrest Blvd Delray Beach FL 33444 United States;X-APPLE-RADIUS=500;X-TITLE=2505 Seacrest Blvd:geo:-80.0678377,26.4892962
END:VEVENT
BEGIN:VEVENT
DTSTART;TZID=America/New_York:20261210T063000
DTEND;TZID=America/New_York:20261210T073000
DTSTAMP:20260425T121913
CREATED:20200817T153524Z
LAST-MODIFIED:20200817T153524Z
UID:32127-1796884200-1796887800@beast-fit.com
SUMMARY:Cross Training: Back and Biceps
DESCRIPTION:
URL:https://beast-fit.com/event/thursday/2026-12-10/
LOCATION:Seacrest Soccer Complex\, 2505 Seacrest Blvd\, Delray Beach\, FL\, 33444\, United States
GEO:26.4892962;-80.0678377
X-APPLE-STRUCTURED-LOCATION;VALUE=URI;X-ADDRESS=Seacrest Soccer Complex 2505 Seacrest Blvd Delray Beach FL 33444 United States;X-APPLE-RADIUS=500;X-TITLE=2505 Seacrest Blvd:geo:-80.0678377,26.4892962
END:VEVENT
BEGIN:VEVENT
DTSTART;TZID=America/New_York:20261210T080000
DTEND;TZID=America/New_York:20261210T090000
DTSTAMP:20260425T121913
CREATED:20200817T153524Z
LAST-MODIFIED:20200817T153524Z
UID:32128-1796889600-1796893200@beast-fit.com
SUMMARY:Cross Training: Back and Biceps
DESCRIPTION:
URL:https://beast-fit.com/event/thursday/2026-12-10/
LOCATION:Seacrest Soccer Complex\, 2505 Seacrest Blvd\, Delray Beach\, FL\, 33444\, United States
GEO:26.4892962;-80.0678377
X-APPLE-STRUCTURED-LOCATION;VALUE=URI;X-ADDRESS=Seacrest Soccer Complex 2505 Seacrest Blvd Delray Beach FL 33444 United States;X-APPLE-RADIUS=500;X-TITLE=2505 Seacrest Blvd:geo:-80.0678377,26.4892962
END:VEVENT
END:VCALENDAR