BEGIN:VCALENDAR
VERSION:2.0
PRODID:-//Beast Fitness - ECPv5.16.4//NONSGML v1.0//EN
CALSCALE:GREGORIAN
METHOD:PUBLISH
X-ORIGINAL-URL:https://beast-fit.com
X-WR-CALDESC:Events for Beast Fitness
REFRESH-INTERVAL;VALUE=DURATION:PT1H
X-Robots-Tag:noindex
X-PUBLISHED-TTL:PT1H
BEGIN:VTIMEZONE
TZID:America/New_York
BEGIN:DAYLIGHT
TZOFFSETFROM:-0500
TZOFFSETTO:-0400
TZNAME:EDT
DTSTART:20260308T070000
END:DAYLIGHT
BEGIN:STANDARD
TZOFFSETFROM:-0400
TZOFFSETTO:-0500
TZNAME:EST
DTSTART:20261101T060000
END:STANDARD
END:VTIMEZONE
BEGIN:VEVENT
DTSTART;TZID=America/New_York:20261123T080000
DTEND;TZID=America/New_York:20261123T090000
DTSTAMP:20260425T071644
CREATED:20200817T144811Z
LAST-MODIFIED:20200817T144811Z
UID:32068-1795420800-1795424400@beast-fit.com
SUMMARY:Cardio Conditioning
DESCRIPTION:
URL:https://beast-fit.com/event/monday/2026-11-23/
LOCATION:Seacrest Soccer Complex\, 2505 Seacrest Blvd\, Delray Beach\, FL\, 33444\, United States
GEO:26.4892962;-80.0678377
X-APPLE-STRUCTURED-LOCATION;VALUE=URI;X-ADDRESS=Seacrest Soccer Complex 2505 Seacrest Blvd Delray Beach FL 33444 United States;X-APPLE-RADIUS=500;X-TITLE=2505 Seacrest Blvd:geo:-80.0678377,26.4892962
END:VEVENT
BEGIN:VEVENT
DTSTART;TZID=America/New_York:20261123T173000
DTEND;TZID=America/New_York:20261123T183000
DTSTAMP:20260425T071644
CREATED:20200817T144811Z
LAST-MODIFIED:20200817T144811Z
UID:32069-1795455000-1795458600@beast-fit.com
SUMMARY:Cardio Conditioning
DESCRIPTION:
URL:https://beast-fit.com/event/monday/2026-11-23/
LOCATION:Seacrest Soccer Complex\, 2505 Seacrest Blvd\, Delray Beach\, FL\, 33444\, United States
GEO:26.4892962;-80.0678377
X-APPLE-STRUCTURED-LOCATION;VALUE=URI;X-ADDRESS=Seacrest Soccer Complex 2505 Seacrest Blvd Delray Beach FL 33444 United States;X-APPLE-RADIUS=500;X-TITLE=2505 Seacrest Blvd:geo:-80.0678377,26.4892962
END:VEVENT
BEGIN:VEVENT
DTSTART;TZID=America/New_York:20261124T053000
DTEND;TZID=America/New_York:20261124T063000
DTSTAMP:20260425T071644
CREATED:20200817T150718Z
LAST-MODIFIED:20200817T150718Z
UID:32072-1795498200-1795501800@beast-fit.com
SUMMARY:Cross Training: Chest\, Shoulders\, and Triceps
DESCRIPTION:
URL:https://beast-fit.com/event/tuesday/2026-11-24/
LOCATION:Seacrest Soccer Complex\, 2505 Seacrest Blvd\, Delray Beach\, FL\, 33444\, United States
GEO:26.4892962;-80.0678377
X-APPLE-STRUCTURED-LOCATION;VALUE=URI;X-ADDRESS=Seacrest Soccer Complex 2505 Seacrest Blvd Delray Beach FL 33444 United States;X-APPLE-RADIUS=500;X-TITLE=2505 Seacrest Blvd:geo:-80.0678377,26.4892962
END:VEVENT
BEGIN:VEVENT
DTSTART;TZID=America/New_York:20261124T063000
DTEND;TZID=America/New_York:20261124T073000
DTSTAMP:20260425T071644
CREATED:20200817T150718Z
LAST-MODIFIED:20200817T150718Z
UID:32073-1795501800-1795505400@beast-fit.com
SUMMARY:Cross Training: Chest\, Shoulders\, and Triceps
DESCRIPTION:
URL:https://beast-fit.com/event/tuesday/2026-11-24/
LOCATION:Seacrest Soccer Complex\, 2505 Seacrest Blvd\, Delray Beach\, FL\, 33444\, United States
GEO:26.4892962;-80.0678377
X-APPLE-STRUCTURED-LOCATION;VALUE=URI;X-ADDRESS=Seacrest Soccer Complex 2505 Seacrest Blvd Delray Beach FL 33444 United States;X-APPLE-RADIUS=500;X-TITLE=2505 Seacrest Blvd:geo:-80.0678377,26.4892962
END:VEVENT
BEGIN:VEVENT
DTSTART;TZID=America/New_York:20261124T080000
DTEND;TZID=America/New_York:20261124T090000
DTSTAMP:20260425T071644
CREATED:20200817T150718Z
LAST-MODIFIED:20200817T150718Z
UID:32074-1795507200-1795510800@beast-fit.com
SUMMARY:Cross Training: Chest\, Shoulders\, and Triceps
DESCRIPTION:
URL:https://beast-fit.com/event/tuesday/2026-11-24/
LOCATION:Seacrest Soccer Complex\, 2505 Seacrest Blvd\, Delray Beach\, FL\, 33444\, United States
GEO:26.4892962;-80.0678377
X-APPLE-STRUCTURED-LOCATION;VALUE=URI;X-ADDRESS=Seacrest Soccer Complex 2505 Seacrest Blvd Delray Beach FL 33444 United States;X-APPLE-RADIUS=500;X-TITLE=2505 Seacrest Blvd:geo:-80.0678377,26.4892962
END:VEVENT
BEGIN:VEVENT
DTSTART;TZID=America/New_York:20261124T173000
DTEND;TZID=America/New_York:20261124T183000
DTSTAMP:20260425T071644
CREATED:20200817T150718Z
LAST-MODIFIED:20200817T150718Z
UID:32075-1795541400-1795545000@beast-fit.com
SUMMARY:Cross Training: Chest\, Shoulders\, and Triceps
DESCRIPTION:
URL:https://beast-fit.com/event/tuesday/2026-11-24/
LOCATION:Seacrest Soccer Complex\, 2505 Seacrest Blvd\, Delray Beach\, FL\, 33444\, United States
GEO:26.4892962;-80.0678377
X-APPLE-STRUCTURED-LOCATION;VALUE=URI;X-ADDRESS=Seacrest Soccer Complex 2505 Seacrest Blvd Delray Beach FL 33444 United States;X-APPLE-RADIUS=500;X-TITLE=2505 Seacrest Blvd:geo:-80.0678377,26.4892962
END:VEVENT
BEGIN:VEVENT
DTSTART;TZID=America/New_York:20261125T053000
DTEND;TZID=America/New_York:20261125T063000
DTSTAMP:20260425T071644
CREATED:20200817T152431Z
LAST-MODIFIED:20200817T152431Z
UID:32078-1795584600-1795588200@beast-fit.com
SUMMARY:Cross Training: Legs
DESCRIPTION:
URL:https://beast-fit.com/event/wednesday/2026-11-25/
LOCATION:Seacrest Soccer Complex\, 2505 Seacrest Blvd\, Delray Beach\, FL\, 33444\, United States
GEO:26.4892962;-80.0678377
X-APPLE-STRUCTURED-LOCATION;VALUE=URI;X-ADDRESS=Seacrest Soccer Complex 2505 Seacrest Blvd Delray Beach FL 33444 United States;X-APPLE-RADIUS=500;X-TITLE=2505 Seacrest Blvd:geo:-80.0678377,26.4892962
END:VEVENT
BEGIN:VEVENT
DTSTART;TZID=America/New_York:20261125T063000
DTEND;TZID=America/New_York:20261125T070000
DTSTAMP:20260425T071644
CREATED:20200817T152431Z
LAST-MODIFIED:20200817T152431Z
UID:32079-1795588200-1795590000@beast-fit.com
SUMMARY:Cross Training: Legs
DESCRIPTION:
URL:https://beast-fit.com/event/wednesday/2026-11-25/
LOCATION:Seacrest Soccer Complex\, 2505 Seacrest Blvd\, Delray Beach\, FL\, 33444\, United States
GEO:26.4892962;-80.0678377
X-APPLE-STRUCTURED-LOCATION;VALUE=URI;X-ADDRESS=Seacrest Soccer Complex 2505 Seacrest Blvd Delray Beach FL 33444 United States;X-APPLE-RADIUS=500;X-TITLE=2505 Seacrest Blvd:geo:-80.0678377,26.4892962
END:VEVENT
BEGIN:VEVENT
DTSTART;TZID=America/New_York:20261125T080000
DTEND;TZID=America/New_York:20261125T090000
DTSTAMP:20260425T071644
CREATED:20200817T152431Z
LAST-MODIFIED:20200817T152431Z
UID:32080-1795593600-1795597200@beast-fit.com
SUMMARY:Cross Training: Legs
DESCRIPTION:
URL:https://beast-fit.com/event/wednesday/2026-11-25/
LOCATION:Seacrest Soccer Complex\, 2505 Seacrest Blvd\, Delray Beach\, FL\, 33444\, United States
GEO:26.4892962;-80.0678377
X-APPLE-STRUCTURED-LOCATION;VALUE=URI;X-ADDRESS=Seacrest Soccer Complex 2505 Seacrest Blvd Delray Beach FL 33444 United States;X-APPLE-RADIUS=500;X-TITLE=2505 Seacrest Blvd:geo:-80.0678377,26.4892962
END:VEVENT
BEGIN:VEVENT
DTSTART;TZID=America/New_York:20261125T173000
DTEND;TZID=America/New_York:20261125T183000
DTSTAMP:20260425T071644
CREATED:20200817T152431Z
LAST-MODIFIED:20200817T152431Z
UID:32081-1795627800-1795631400@beast-fit.com
SUMMARY:Cross Training: Legs
DESCRIPTION:
URL:https://beast-fit.com/event/wednesday/2026-11-25/
LOCATION:Seacrest Soccer Complex\, 2505 Seacrest Blvd\, Delray Beach\, FL\, 33444\, United States
GEO:26.4892962;-80.0678377
X-APPLE-STRUCTURED-LOCATION;VALUE=URI;X-ADDRESS=Seacrest Soccer Complex 2505 Seacrest Blvd Delray Beach FL 33444 United States;X-APPLE-RADIUS=500;X-TITLE=2505 Seacrest Blvd:geo:-80.0678377,26.4892962
END:VEVENT
BEGIN:VEVENT
DTSTART;VALUE=DATE:20261126
DTEND;VALUE=DATE:20261127
DTSTAMP:20260425T071644
CREATED:20200817T154451Z
LAST-MODIFIED:20200817T154451Z
UID:32082-1795651200-1795737599@beast-fit.com
SUMMARY:Thanksgiving Day
DESCRIPTION:No standard classes today.
URL:https://beast-fit.com/event/thanksgiving-day/2026-11-26/
LOCATION:FL
END:VEVENT
BEGIN:VEVENT
DTSTART;VALUE=DATE:20261127
DTEND;VALUE=DATE:20261128
DTSTAMP:20260425T071644
CREATED:20200817T155350Z
LAST-MODIFIED:20200817T155350Z
UID:32083-1795737600-1795823999@beast-fit.com
SUMMARY:Black Friday
DESCRIPTION:
URL:https://beast-fit.com/event/black-friday/2026-11-27/
LOCATION:FL
END:VEVENT
BEGIN:VEVENT
DTSTART;TZID=America/New_York:20261127T070000
DTEND;TZID=America/New_York:20261127T083000
DTSTAMP:20260425T071644
CREATED:20220824T173944Z
LAST-MODIFIED:20220824T173944Z
UID:32084-1795762800-1795768200@beast-fit.com
SUMMARY:BEAST BEATDOWN: Turkey Burner
DESCRIPTION:Gobble Gobble\, y’all!
URL:https://beast-fit.com/event/beast-beatdown-turkey-burner/2026-11-27/
LOCATION:Seacrest Soccer Complex\, 2505 Seacrest Blvd\, Delray Beach\, FL\, 33444\, United States
GEO:26.4892962;-80.0678377
X-APPLE-STRUCTURED-LOCATION;VALUE=URI;X-ADDRESS=Seacrest Soccer Complex 2505 Seacrest Blvd Delray Beach FL 33444 United States;X-APPLE-RADIUS=500;X-TITLE=2505 Seacrest Blvd:geo:-80.0678377,26.4892962
END:VEVENT
BEGIN:VEVENT
DTSTART;TZID=America/New_York:20261128T060000
DTEND;TZID=America/New_York:20261128T073000
DTSTAMP:20260425T071644
CREATED:20200817T143327Z
LAST-MODIFIED:20200817T143327Z
UID:32546-1795845600-1795851000@beast-fit.com
SUMMARY:BEAST BEATDOWN: Full Body
DESCRIPTION:90 Minute Class
URL:https://beast-fit.com/event/saturday/2026-11-28/
LOCATION:Seacrest Soccer Complex\, 2505 Seacrest Blvd\, Delray Beach\, FL\, 33444\, United States
GEO:26.4892962;-80.0678377
X-APPLE-STRUCTURED-LOCATION;VALUE=URI;X-ADDRESS=Seacrest Soccer Complex 2505 Seacrest Blvd Delray Beach FL 33444 United States;X-APPLE-RADIUS=500;X-TITLE=2505 Seacrest Blvd:geo:-80.0678377,26.4892962
END:VEVENT
BEGIN:VEVENT
DTSTART;TZID=America/New_York:20261130T053000
DTEND;TZID=America/New_York:20261130T063000
DTSTAMP:20260425T071644
CREATED:20200817T144811Z
LAST-MODIFIED:20200817T144811Z
UID:32086-1796016600-1796020200@beast-fit.com
SUMMARY:Cardio Conditioning
DESCRIPTION:
URL:https://beast-fit.com/event/monday/2026-11-30/
LOCATION:Seacrest Soccer Complex\, 2505 Seacrest Blvd\, Delray Beach\, FL\, 33444\, United States
GEO:26.4892962;-80.0678377
X-APPLE-STRUCTURED-LOCATION;VALUE=URI;X-ADDRESS=Seacrest Soccer Complex 2505 Seacrest Blvd Delray Beach FL 33444 United States;X-APPLE-RADIUS=500;X-TITLE=2505 Seacrest Blvd:geo:-80.0678377,26.4892962
END:VEVENT
BEGIN:VEVENT
DTSTART;TZID=America/New_York:20261130T063000
DTEND;TZID=America/New_York:20261130T073000
DTSTAMP:20260425T071644
CREATED:20200817T144811Z
LAST-MODIFIED:20200817T144811Z
UID:32087-1796020200-1796023800@beast-fit.com
SUMMARY:Cardio Conditioning
DESCRIPTION:
URL:https://beast-fit.com/event/monday/2026-11-30/
LOCATION:Seacrest Soccer Complex\, 2505 Seacrest Blvd\, Delray Beach\, FL\, 33444\, United States
GEO:26.4892962;-80.0678377
X-APPLE-STRUCTURED-LOCATION;VALUE=URI;X-ADDRESS=Seacrest Soccer Complex 2505 Seacrest Blvd Delray Beach FL 33444 United States;X-APPLE-RADIUS=500;X-TITLE=2505 Seacrest Blvd:geo:-80.0678377,26.4892962
END:VEVENT
BEGIN:VEVENT
DTSTART;TZID=America/New_York:20261130T080000
DTEND;TZID=America/New_York:20261130T090000
DTSTAMP:20260425T071644
CREATED:20200817T144811Z
LAST-MODIFIED:20200817T144811Z
UID:32088-1796025600-1796029200@beast-fit.com
SUMMARY:Cardio Conditioning
DESCRIPTION:
URL:https://beast-fit.com/event/monday/2026-11-30/
LOCATION:Seacrest Soccer Complex\, 2505 Seacrest Blvd\, Delray Beach\, FL\, 33444\, United States
GEO:26.4892962;-80.0678377
X-APPLE-STRUCTURED-LOCATION;VALUE=URI;X-ADDRESS=Seacrest Soccer Complex 2505 Seacrest Blvd Delray Beach FL 33444 United States;X-APPLE-RADIUS=500;X-TITLE=2505 Seacrest Blvd:geo:-80.0678377,26.4892962
END:VEVENT
BEGIN:VEVENT
DTSTART;TZID=America/New_York:20261130T173000
DTEND;TZID=America/New_York:20261130T183000
DTSTAMP:20260425T071644
CREATED:20200817T144811Z
LAST-MODIFIED:20200817T144811Z
UID:32089-1796059800-1796063400@beast-fit.com
SUMMARY:Cardio Conditioning
DESCRIPTION:
URL:https://beast-fit.com/event/monday/2026-11-30/
LOCATION:Seacrest Soccer Complex\, 2505 Seacrest Blvd\, Delray Beach\, FL\, 33444\, United States
GEO:26.4892962;-80.0678377
X-APPLE-STRUCTURED-LOCATION;VALUE=URI;X-ADDRESS=Seacrest Soccer Complex 2505 Seacrest Blvd Delray Beach FL 33444 United States;X-APPLE-RADIUS=500;X-TITLE=2505 Seacrest Blvd:geo:-80.0678377,26.4892962
END:VEVENT
BEGIN:VEVENT
DTSTART;TZID=America/New_York:20261201T053000
DTEND;TZID=America/New_York:20261201T063000
DTSTAMP:20260425T071644
CREATED:20200817T150718Z
LAST-MODIFIED:20200817T150718Z
UID:32092-1796103000-1796106600@beast-fit.com
SUMMARY:Cross Training: Chest\, Shoulders\, and Triceps
DESCRIPTION:
URL:https://beast-fit.com/event/tuesday/2026-12-01/
LOCATION:Seacrest Soccer Complex\, 2505 Seacrest Blvd\, Delray Beach\, FL\, 33444\, United States
GEO:26.4892962;-80.0678377
X-APPLE-STRUCTURED-LOCATION;VALUE=URI;X-ADDRESS=Seacrest Soccer Complex 2505 Seacrest Blvd Delray Beach FL 33444 United States;X-APPLE-RADIUS=500;X-TITLE=2505 Seacrest Blvd:geo:-80.0678377,26.4892962
END:VEVENT
BEGIN:VEVENT
DTSTART;TZID=America/New_York:20261201T063000
DTEND;TZID=America/New_York:20261201T073000
DTSTAMP:20260425T071644
CREATED:20200817T150718Z
LAST-MODIFIED:20200817T150718Z
UID:32093-1796106600-1796110200@beast-fit.com
SUMMARY:Cross Training: Chest\, Shoulders\, and Triceps
DESCRIPTION:
URL:https://beast-fit.com/event/tuesday/2026-12-01/
LOCATION:Seacrest Soccer Complex\, 2505 Seacrest Blvd\, Delray Beach\, FL\, 33444\, United States
GEO:26.4892962;-80.0678377
X-APPLE-STRUCTURED-LOCATION;VALUE=URI;X-ADDRESS=Seacrest Soccer Complex 2505 Seacrest Blvd Delray Beach FL 33444 United States;X-APPLE-RADIUS=500;X-TITLE=2505 Seacrest Blvd:geo:-80.0678377,26.4892962
END:VEVENT
BEGIN:VEVENT
DTSTART;TZID=America/New_York:20261201T080000
DTEND;TZID=America/New_York:20261201T090000
DTSTAMP:20260425T071645
CREATED:20200817T150718Z
LAST-MODIFIED:20200817T150718Z
UID:32094-1796112000-1796115600@beast-fit.com
SUMMARY:Cross Training: Chest\, Shoulders\, and Triceps
DESCRIPTION:
URL:https://beast-fit.com/event/tuesday/2026-12-01/
LOCATION:Seacrest Soccer Complex\, 2505 Seacrest Blvd\, Delray Beach\, FL\, 33444\, United States
GEO:26.4892962;-80.0678377
X-APPLE-STRUCTURED-LOCATION;VALUE=URI;X-ADDRESS=Seacrest Soccer Complex 2505 Seacrest Blvd Delray Beach FL 33444 United States;X-APPLE-RADIUS=500;X-TITLE=2505 Seacrest Blvd:geo:-80.0678377,26.4892962
END:VEVENT
BEGIN:VEVENT
DTSTART;TZID=America/New_York:20261201T173000
DTEND;TZID=America/New_York:20261201T183000
DTSTAMP:20260425T071645
CREATED:20200817T150718Z
LAST-MODIFIED:20200817T150718Z
UID:32095-1796146200-1796149800@beast-fit.com
SUMMARY:Cross Training: Chest\, Shoulders\, and Triceps
DESCRIPTION:
URL:https://beast-fit.com/event/tuesday/2026-12-01/
LOCATION:Seacrest Soccer Complex\, 2505 Seacrest Blvd\, Delray Beach\, FL\, 33444\, United States
GEO:26.4892962;-80.0678377
X-APPLE-STRUCTURED-LOCATION;VALUE=URI;X-ADDRESS=Seacrest Soccer Complex 2505 Seacrest Blvd Delray Beach FL 33444 United States;X-APPLE-RADIUS=500;X-TITLE=2505 Seacrest Blvd:geo:-80.0678377,26.4892962
END:VEVENT
BEGIN:VEVENT
DTSTART;TZID=America/New_York:20261202T053000
DTEND;TZID=America/New_York:20261202T063000
DTSTAMP:20260425T071645
CREATED:20200817T152431Z
LAST-MODIFIED:20200817T152431Z
UID:32097-1796189400-1796193000@beast-fit.com
SUMMARY:Cross Training: Legs
DESCRIPTION:
URL:https://beast-fit.com/event/wednesday/2026-12-02/
LOCATION:Seacrest Soccer Complex\, 2505 Seacrest Blvd\, Delray Beach\, FL\, 33444\, United States
GEO:26.4892962;-80.0678377
X-APPLE-STRUCTURED-LOCATION;VALUE=URI;X-ADDRESS=Seacrest Soccer Complex 2505 Seacrest Blvd Delray Beach FL 33444 United States;X-APPLE-RADIUS=500;X-TITLE=2505 Seacrest Blvd:geo:-80.0678377,26.4892962
END:VEVENT
BEGIN:VEVENT
DTSTART;TZID=America/New_York:20261202T063000
DTEND;TZID=America/New_York:20261202T070000
DTSTAMP:20260425T071645
CREATED:20200817T152431Z
LAST-MODIFIED:20200817T152431Z
UID:32098-1796193000-1796194800@beast-fit.com
SUMMARY:Cross Training: Legs
DESCRIPTION:
URL:https://beast-fit.com/event/wednesday/2026-12-02/
LOCATION:Seacrest Soccer Complex\, 2505 Seacrest Blvd\, Delray Beach\, FL\, 33444\, United States
GEO:26.4892962;-80.0678377
X-APPLE-STRUCTURED-LOCATION;VALUE=URI;X-ADDRESS=Seacrest Soccer Complex 2505 Seacrest Blvd Delray Beach FL 33444 United States;X-APPLE-RADIUS=500;X-TITLE=2505 Seacrest Blvd:geo:-80.0678377,26.4892962
END:VEVENT
BEGIN:VEVENT
DTSTART;TZID=America/New_York:20261202T080000
DTEND;TZID=America/New_York:20261202T090000
DTSTAMP:20260425T071645
CREATED:20200817T152431Z
LAST-MODIFIED:20200817T152431Z
UID:32099-1796198400-1796202000@beast-fit.com
SUMMARY:Cross Training: Legs
DESCRIPTION:
URL:https://beast-fit.com/event/wednesday/2026-12-02/
LOCATION:Seacrest Soccer Complex\, 2505 Seacrest Blvd\, Delray Beach\, FL\, 33444\, United States
GEO:26.4892962;-80.0678377
X-APPLE-STRUCTURED-LOCATION;VALUE=URI;X-ADDRESS=Seacrest Soccer Complex 2505 Seacrest Blvd Delray Beach FL 33444 United States;X-APPLE-RADIUS=500;X-TITLE=2505 Seacrest Blvd:geo:-80.0678377,26.4892962
END:VEVENT
BEGIN:VEVENT
DTSTART;TZID=America/New_York:20261202T173000
DTEND;TZID=America/New_York:20261202T183000
DTSTAMP:20260425T071645
CREATED:20200817T152431Z
LAST-MODIFIED:20200817T152431Z
UID:32100-1796232600-1796236200@beast-fit.com
SUMMARY:Cross Training: Legs
DESCRIPTION:
URL:https://beast-fit.com/event/wednesday/2026-12-02/
LOCATION:Seacrest Soccer Complex\, 2505 Seacrest Blvd\, Delray Beach\, FL\, 33444\, United States
GEO:26.4892962;-80.0678377
X-APPLE-STRUCTURED-LOCATION;VALUE=URI;X-ADDRESS=Seacrest Soccer Complex 2505 Seacrest Blvd Delray Beach FL 33444 United States;X-APPLE-RADIUS=500;X-TITLE=2505 Seacrest Blvd:geo:-80.0678377,26.4892962
END:VEVENT
BEGIN:VEVENT
DTSTART;TZID=America/New_York:20261203T053000
DTEND;TZID=America/New_York:20261203T063000
DTSTAMP:20260425T071645
CREATED:20200817T153524Z
LAST-MODIFIED:20200817T153524Z
UID:32102-1796275800-1796279400@beast-fit.com
SUMMARY:Cross Training: Back and Biceps
DESCRIPTION:
URL:https://beast-fit.com/event/thursday/2026-12-03/
LOCATION:Seacrest Soccer Complex\, 2505 Seacrest Blvd\, Delray Beach\, FL\, 33444\, United States
GEO:26.4892962;-80.0678377
X-APPLE-STRUCTURED-LOCATION;VALUE=URI;X-ADDRESS=Seacrest Soccer Complex 2505 Seacrest Blvd Delray Beach FL 33444 United States;X-APPLE-RADIUS=500;X-TITLE=2505 Seacrest Blvd:geo:-80.0678377,26.4892962
END:VEVENT
BEGIN:VEVENT
DTSTART;TZID=America/New_York:20261203T063000
DTEND;TZID=America/New_York:20261203T073000
DTSTAMP:20260425T071645
CREATED:20200817T153524Z
LAST-MODIFIED:20200817T153524Z
UID:32103-1796279400-1796283000@beast-fit.com
SUMMARY:Cross Training: Back and Biceps
DESCRIPTION:
URL:https://beast-fit.com/event/thursday/2026-12-03/
LOCATION:Seacrest Soccer Complex\, 2505 Seacrest Blvd\, Delray Beach\, FL\, 33444\, United States
GEO:26.4892962;-80.0678377
X-APPLE-STRUCTURED-LOCATION;VALUE=URI;X-ADDRESS=Seacrest Soccer Complex 2505 Seacrest Blvd Delray Beach FL 33444 United States;X-APPLE-RADIUS=500;X-TITLE=2505 Seacrest Blvd:geo:-80.0678377,26.4892962
END:VEVENT
BEGIN:VEVENT
DTSTART;TZID=America/New_York:20261203T080000
DTEND;TZID=America/New_York:20261203T090000
DTSTAMP:20260425T071645
CREATED:20200817T153524Z
LAST-MODIFIED:20200817T153524Z
UID:32104-1796284800-1796288400@beast-fit.com
SUMMARY:Cross Training: Back and Biceps
DESCRIPTION:
URL:https://beast-fit.com/event/thursday/2026-12-03/
LOCATION:Seacrest Soccer Complex\, 2505 Seacrest Blvd\, Delray Beach\, FL\, 33444\, United States
GEO:26.4892962;-80.0678377
X-APPLE-STRUCTURED-LOCATION;VALUE=URI;X-ADDRESS=Seacrest Soccer Complex 2505 Seacrest Blvd Delray Beach FL 33444 United States;X-APPLE-RADIUS=500;X-TITLE=2505 Seacrest Blvd:geo:-80.0678377,26.4892962
END:VEVENT
BEGIN:VEVENT
DTSTART;TZID=America/New_York:20261203T173000
DTEND;TZID=America/New_York:20261203T183000
DTSTAMP:20260425T071645
CREATED:20200817T153524Z
LAST-MODIFIED:20200817T153524Z
UID:32105-1796319000-1796322600@beast-fit.com
SUMMARY:Cross Training: Back and Biceps
DESCRIPTION:
URL:https://beast-fit.com/event/thursday/2026-12-03/
LOCATION:Seacrest Soccer Complex\, 2505 Seacrest Blvd\, Delray Beach\, FL\, 33444\, United States
GEO:26.4892962;-80.0678377
X-APPLE-STRUCTURED-LOCATION;VALUE=URI;X-ADDRESS=Seacrest Soccer Complex 2505 Seacrest Blvd Delray Beach FL 33444 United States;X-APPLE-RADIUS=500;X-TITLE=2505 Seacrest Blvd:geo:-80.0678377,26.4892962
END:VEVENT
END:VCALENDAR